BEGIN:VCALENDAR
VERSION:2.0
PRODID:-//Sabre//Sabre VObject 4.5.8//EN
CALSCALE:GREGORIAN
BEGIN:VEVENT
UID:sabre-vobject-1c1d3b56-7b96-4bfa-98c1-56cc4ed68dea
DTSTAMP:20260424T110802Z
SUMMARY:Hl. Messe in der Hauskirche von Regens Wagner
DESCRIPTION:https://pfarreien-bistum-augsburg.df-preview.de/hl-messe-in-der
 -hauskirche-von-regens-wagner_id1673570
DTSTART;TZID=Europe/Berlin:20260325T163000
DURATION:PT30M
LOCATION:St. Peter und Paul\, Kirchtalstr. 2\, 87763 Lautrach
END:VEVENT
END:VCALENDAR
