BEGIN:VCALENDAR
VERSION:2.0
PRODID:-//Sabre//Sabre VObject 4.5.8//EN
CALSCALE:GREGORIAN
BEGIN:VEVENT
UID:sabre-vobject-ff7a4739-2761-4430-b743-815bdfdc4863
DTSTAMP:20260424T182722Z
SUMMARY:Krankenkommunion verschoben auf 9.4.
DESCRIPTION:https://pfarreien-bistum-augsburg.df-preview.de/krankenkommunio
 n-verschoben-auf-9-4_id1673509
DTSTART;TZID=Europe/Berlin:20260402T163000
DURATION:PT30M
LOCATION:Mariä Himmelfahrt\, Schlottergasse 2\, 87758 Kronburg-Illerbeuren
END:VEVENT
END:VCALENDAR
