BEGIN:VCALENDAR
VERSION:2.0
PRODID:-//Sabre//Sabre VObject 4.5.8//EN
CALSCALE:GREGORIAN
BEGIN:VEVENT
UID:sabre-vobject-3d37d424-5b9c-4856-9a52-f74428f5a69b
DTSTAMP:20260423T222659Z
SUMMARY:Osternachtfeier\, Lichtfeier\, Wortfeier\, Tauferneuerung\, \nOster
 nachtamt mit Speißenweihe
DESCRIPTION:https://pfarreien-bistum-augsburg.df-preview.de/osternachtfeier
 -lichtfeier-wortfeier-tauferneuerung-osternachtamt-mit-speissenweihe_id167
 3422
DTSTART;TZID=Europe/Berlin:20260404T200000
DURATION:PT30M
LOCATION:Mariä Himmelfahrt\, Schlottergasse 2\, 87758 Kronburg-Illerbeuren
END:VEVENT
END:VCALENDAR
