BEGIN:VCALENDAR
VERSION:2.0
PRODID:-//Sabre//Sabre VObject 4.5.8//EN
CALSCALE:GREGORIAN
BEGIN:VEVENT
UID:sabre-vobject-bc4f5f79-933f-464f-9675-25f3fabc0d6a
DTSTAMP:20260424T070333Z
SUMMARY:ev. Messe
DESCRIPTION:https://pfarreien-bistum-augsburg.df-preview.de/ev-messe_id1673
 377
DTSTART;TZID=Europe/Berlin:20260403T093000
DURATION:PT30M
LOCATION:Mariä Himmelfahrt\, Schlottergasse 2\, 87758 Kronburg-Illerbeuren
END:VEVENT
END:VCALENDAR
