BEGIN:VCALENDAR
VERSION:2.0
PRODID:-//Sabre//Sabre VObject 4.5.8//EN
CALSCALE:GREGORIAN
BEGIN:VEVENT
UID:sabre-vobject-2d441f16-c704-4c0a-94ec-0779f66a75f2
DTSTAMP:20260424T082323Z
SUMMARY:Andacht v. d. "Sieben Worten Jesu am Kreuz"
DESCRIPTION:https://pfarreien-bistum-augsburg.df-preview.de/andacht-v-d-sie
 ben-worten-jesu-am-kreuz_id1673376
DTSTART;TZID=Europe/Berlin:20260403T090000
DURATION:PT30M
LOCATION:Mariä Himmelfahrt\, Schlottergasse 2\, 87758 Kronburg-Illerbeuren
END:VEVENT
END:VCALENDAR
