BEGIN:VCALENDAR
VERSION:2.0
PRODID:-//Sabre//Sabre VObject 4.5.8//EN
CALSCALE:GREGORIAN
BEGIN:VEVENT
UID:sabre-vobject-19fc82b7-20d3-427c-b9d6-a5929d4cb3c1
DTSTAMP:20260422T000409Z
SUMMARY:Hl. Amt in der Hauskirche von Regens Wagner
DESCRIPTION:https://pfarreien-bistum-augsburg.df-preview.de/hl-amt-in-der-h
 auskirche-von-regens-wagner_id1673340
DTSTART;TZID=Europe/Berlin:20260329T090000
DURATION:PT30M
LOCATION:St. Peter und Paul\, Kirchtalstr. 2\, 87763 Lautrach
END:VEVENT
END:VCALENDAR
