BEGIN:VCALENDAR
VERSION:2.0
PRODID:-//Sabre//Sabre VObject 4.5.8//EN
CALSCALE:GREGORIAN
BEGIN:VEVENT
UID:sabre-vobject-e9761c27-afbc-416c-a252-7ecfc4c96069
DTSTAMP:20260422T001239Z
SUMMARY:Heilige Messe\nDIESE MESSE WURDE NUR WEGEN EINER INTENTION EINGEGEB
 EN
DESCRIPTION:https://pfarreien-bistum-augsburg.df-preview.de/heilige-messe-d
 iese-messe-wurde-nur-wegen-einer-intention-eingegeben_id1673149
DTSTART;TZID=Europe/Berlin:20261125T183000
DURATION:PT30M
LOCATION:St. Ulrich\, St.-Ulrich-Straße 4\, 89364 Rettenbach
END:VEVENT
END:VCALENDAR
