BEGIN:VCALENDAR
VERSION:2.0
PRODID:-//Sabre//Sabre VObject 4.5.8//EN
CALSCALE:GREGORIAN
BEGIN:VEVENT
UID:sabre-vobject-d200367f-a0d9-431c-bf39-dfd6e2dffe86
DTSTAMP:20260422T072202Z
SUMMARY:Heilige Messe
DESCRIPTION:https://pfarreien-bistum-augsburg.df-preview.de/heilige-messe_i
 d1673081
DTSTART;TZID=Europe/Berlin:20261217T183000
DURATION:PT30M
LOCATION:St. Georg
END:VEVENT
END:VCALENDAR
