BEGIN:VCALENDAR
VERSION:2.0
PRODID:-//Sabre//Sabre VObject 4.5.8//EN
CALSCALE:GREGORIAN
BEGIN:VEVENT
UID:sabre-vobject-1c4ba5a6-69c1-4a89-81bd-1a3d26956cdf
DTSTAMP:20260422T035017Z
SUMMARY:Rosenkranz + Beichtgelegenheit
DESCRIPTION:https://pfarreien-bistum-augsburg.df-preview.de/rosenkranz-beic
 htgelegenheit_id1673069
DTSTART;TZID=Europe/Berlin:20261217T175500
DURATION:PT30M
LOCATION:St. Georg
END:VEVENT
END:VCALENDAR
