BEGIN:VCALENDAR
VERSION:2.0
PRODID:-//Sabre//Sabre VObject 4.5.8//EN
CALSCALE:GREGORIAN
BEGIN:VEVENT
UID:sabre-vobject-c96b17ca-ac8b-454a-983a-5c9f28a4e463
DTSTAMP:20260423T201256Z
SUMMARY:Hochamt
DESCRIPTION:https://pfarreien-bistum-augsburg.df-preview.de/hochamt_id16730
 10
DTSTART;TZID=Europe/Berlin:20260524T090000
DURATION:PT30M
LOCATION:St. Leonhard\, Kirchplatz\, 89364 Remshart
END:VEVENT
END:VCALENDAR
