BEGIN:VCALENDAR
VERSION:2.0
PRODID:-//Sabre//Sabre VObject 4.5.8//EN
CALSCALE:GREGORIAN
BEGIN:VEVENT
UID:sabre-vobject-b27e77f0-a6c3-4398-b18b-432b07a00e7e
DTSTAMP:20260425T130405Z
SUMMARY:Taufe Paulina Deuringer
DESCRIPTION:https://pfarreien-bistum-augsburg.df-preview.de/taufe-paulina-d
 euringer_id1673006
DTSTART;TZID=Europe/Berlin:20260516T143000
DURATION:PT30M
LOCATION:St. Leonhard\, Kirchplatz\, 89364 Remshart
END:VEVENT
END:VCALENDAR
