BEGIN:VCALENDAR
VERSION:2.0
PRODID:-//Sabre//Sabre VObject 4.5.8//EN
CALSCALE:GREGORIAN
BEGIN:VEVENT
UID:sabre-vobject-68c36064-7af9-4d53-b47f-0d24e82e2809
DTSTAMP:20260425T090106Z
SUMMARY:Rosenkranz
DESCRIPTION:https://pfarreien-bistum-augsburg.df-preview.de/rosenkranz_id16
 72983
DTSTART;TZID=Europe/Berlin:20261227T095500
DURATION:PT30M
LOCATION:St. Georg
END:VEVENT
END:VCALENDAR
