BEGIN:VCALENDAR
VERSION:2.0
PRODID:-//Sabre//Sabre VObject 4.5.8//EN
CALSCALE:GREGORIAN
BEGIN:VEVENT
UID:sabre-vobject-0c1666ca-186c-4e52-9721-7ba1c3f4d03f
DTSTAMP:20260421T223026Z
SUMMARY:Rosenkranz
DESCRIPTION:https://pfarreien-bistum-augsburg.df-preview.de/rosenkranz_id16
 72962
DTSTART;TZID=Europe/Berlin:20261127T170000
DURATION:PT30M
LOCATION:St. Georg
END:VEVENT
END:VCALENDAR
