BEGIN:VCALENDAR
VERSION:2.0
PRODID:-//Sabre//Sabre VObject 4.5.8//EN
CALSCALE:GREGORIAN
BEGIN:VEVENT
UID:sabre-vobject-b8a3283b-5f7f-48e9-b114-a2c8ed41c90c
DTSTAMP:20260424T182154Z
SUMMARY:Rosenkranz
DESCRIPTION:https://pfarreien-bistum-augsburg.df-preview.de/rosenkranz_id16
 72925
DTSTART;TZID=Europe/Berlin:20260909T180000
DURATION:PT30M
LOCATION:St. Georg
END:VEVENT
END:VCALENDAR
