BEGIN:VCALENDAR
VERSION:2.0
PRODID:-//Sabre//Sabre VObject 4.5.8//EN
CALSCALE:GREGORIAN
BEGIN:VEVENT
UID:sabre-vobject-fc532aa3-0d14-4e4e-b4eb-49a650408955
DTSTAMP:20260424T182254Z
SUMMARY:Heilige Messe (latein)
DESCRIPTION:https://pfarreien-bistum-augsburg.df-preview.de/heilige-messe-l
 atein_id1672924
DTSTART;TZID=Europe/Berlin:20260908T183000
DURATION:PT30M
LOCATION:St. Georg
END:VEVENT
END:VCALENDAR
