BEGIN:VCALENDAR
VERSION:2.0
PRODID:-//Sabre//Sabre VObject 4.5.8//EN
CALSCALE:GREGORIAN
BEGIN:VEVENT
UID:sabre-vobject-43c9b7c9-2beb-4259-9923-32cf4cff36a4
DTSTAMP:20260421T193056Z
SUMMARY:Heilige Messe (latein)
DESCRIPTION:https://pfarreien-bistum-augsburg.df-preview.de/heilige-messe-l
 atein_id1672911
DTSTART;TZID=Europe/Berlin:20261110T183000
DURATION:PT30M
LOCATION:St. Georg
END:VEVENT
END:VCALENDAR
