BEGIN:VCALENDAR
VERSION:2.0
PRODID:-//Sabre//Sabre VObject 4.5.8//EN
CALSCALE:GREGORIAN
BEGIN:VEVENT
UID:sabre-vobject-bcbbbcfb-cee4-47e7-b872-5f1e55f41cf7
DTSTAMP:20260421T112505Z
SUMMARY:Heilige Messe
DESCRIPTION:https://pfarreien-bistum-augsburg.df-preview.de/heilige-messe_i
 d1672910
DTSTART;TZID=Europe/Berlin:20261112T183000
DURATION:PT30M
LOCATION:St. Georg
END:VEVENT
END:VCALENDAR
