BEGIN:VCALENDAR
VERSION:2.0
PRODID:-//Sabre//Sabre VObject 4.5.8//EN
CALSCALE:GREGORIAN
BEGIN:VEVENT
UID:sabre-vobject-3956736e-c732-4988-841a-91b47c8d62a7
DTSTAMP:20260425T004442Z
SUMMARY:Rosenkranz
DESCRIPTION:https://pfarreien-bistum-augsburg.df-preview.de/rosenkranz_id16
 72894
DTSTART;TZID=Europe/Berlin:20260824T180000
DURATION:PT30M
LOCATION:St. Georg
END:VEVENT
END:VCALENDAR
