BEGIN:VCALENDAR
VERSION:2.0
PRODID:-//Sabre//Sabre VObject 4.5.8//EN
CALSCALE:GREGORIAN
BEGIN:VEVENT
UID:sabre-vobject-f366eac8-fb0e-462f-817a-b1a1707d483d
DTSTAMP:20260424T232622Z
SUMMARY:Rosenkranz + Beichtgelegenheit
DESCRIPTION:https://pfarreien-bistum-augsburg.df-preview.de/rosenkranz-beic
 htgelegenheit_id1672849
DTSTART;TZID=Europe/Berlin:20261001T175500
DURATION:PT30M
LOCATION:St. Georg
END:VEVENT
END:VCALENDAR
