BEGIN:VCALENDAR
VERSION:2.0
PRODID:-//Sabre//Sabre VObject 4.5.8//EN
CALSCALE:GREGORIAN
BEGIN:VEVENT
UID:sabre-vobject-8cc623ea-af2e-45eb-8543-c26d2f8207a2
DTSTAMP:20260425T142009Z
SUMMARY:Rosenkranz
DESCRIPTION:https://pfarreien-bistum-augsburg.df-preview.de/rosenkranz_id16
 72808
DTSTART;TZID=Europe/Berlin:20260816T095500
DURATION:PT30M
LOCATION:St. Georg
END:VEVENT
END:VCALENDAR
