BEGIN:VCALENDAR
VERSION:2.0
PRODID:-//Sabre//Sabre VObject 4.5.8//EN
CALSCALE:GREGORIAN
BEGIN:VEVENT
UID:sabre-vobject-c717e9b0-2a25-47c7-97b2-1c4091a11d67
DTSTAMP:20260423T235859Z
SUMMARY:Rosenkranz
DESCRIPTION:https://pfarreien-bistum-augsburg.df-preview.de/rosenkranz_id16
 72790
DTSTART;TZID=Europe/Berlin:20261024T180000
DURATION:PT30M
LOCATION:St. Georg
END:VEVENT
END:VCALENDAR
