BEGIN:VCALENDAR
VERSION:2.0
PRODID:-//Sabre//Sabre VObject 4.5.8//EN
CALSCALE:GREGORIAN
BEGIN:VEVENT
UID:sabre-vobject-9455af02-1dc2-49da-afb6-5f5b682501ed
DTSTAMP:20260424T033505Z
SUMMARY:Heilige Messe in der Leonhardskapelle
DESCRIPTION:https://pfarreien-bistum-augsburg.df-preview.de/heilige-messe-i
 n-der-leonhardskapelle_id1672784
DTSTART;TZID=Europe/Berlin:20260702T183000
DURATION:PT30M
LOCATION:St. Georg
END:VEVENT
END:VCALENDAR
