BEGIN:VCALENDAR
VERSION:2.0
PRODID:-//Sabre//Sabre VObject 4.5.8//EN
CALSCALE:GREGORIAN
BEGIN:VEVENT
UID:sabre-vobject-9b27daa2-f7f5-4679-a0fb-e82d45126098
DTSTAMP:20260422T122644Z
SUMMARY:Rosenkranz
DESCRIPTION:https://pfarreien-bistum-augsburg.df-preview.de/rosenkranz_id16
 72781
DTSTART;TZID=Europe/Berlin:20261118T170000
DURATION:PT30M
LOCATION:St. Georg
END:VEVENT
END:VCALENDAR
