BEGIN:VCALENDAR
VERSION:2.0
PRODID:-//Sabre//Sabre VObject 4.5.8//EN
CALSCALE:GREGORIAN
BEGIN:VEVENT
UID:sabre-vobject-f824b382-f47a-48f8-b3bc-8e9d1894cb9a
DTSTAMP:20260424T063335Z
SUMMARY:Heilige Messe
DESCRIPTION:https://pfarreien-bistum-augsburg.df-preview.de/heilige-messe_i
 d1672778
DTSTART;TZID=Europe/Berlin:20261105T183000
DURATION:PT30M
LOCATION:St. Georg
END:VEVENT
END:VCALENDAR
