BEGIN:VCALENDAR
VERSION:2.0
PRODID:-//Sabre//Sabre VObject 4.5.8//EN
CALSCALE:GREGORIAN
BEGIN:VEVENT
UID:sabre-vobject-bb8095ed-7b21-466a-b032-79ebc4bf2602
DTSTAMP:20260423T224630Z
SUMMARY:Rosenkranz
DESCRIPTION:https://pfarreien-bistum-augsburg.df-preview.de/rosenkranz_id16
 72760
DTSTART;TZID=Europe/Berlin:20261010T180000
DURATION:PT30M
LOCATION:St. Georg
END:VEVENT
END:VCALENDAR
