BEGIN:VCALENDAR
VERSION:2.0
PRODID:-//Sabre//Sabre VObject 4.5.8//EN
CALSCALE:GREGORIAN
BEGIN:VEVENT
UID:sabre-vobject-642a2650-32df-45d9-a661-179a3a9e2c8a
DTSTAMP:20260424T063408Z
SUMMARY:Heilige Messe
DESCRIPTION:https://pfarreien-bistum-augsburg.df-preview.de/heilige-messe_i
 d1672757
DTSTART;TZID=Europe/Berlin:20261008T183000
DURATION:PT30M
LOCATION:St. Georg
END:VEVENT
END:VCALENDAR
