BEGIN:VCALENDAR
VERSION:2.0
PRODID:-//Sabre//Sabre VObject 4.5.8//EN
CALSCALE:GREGORIAN
BEGIN:VEVENT
UID:sabre-vobject-fe18c223-79fc-4ce9-bfc4-7a692e53bf1c
DTSTAMP:20260420T124919Z
SUMMARY:Feierlicher Rosenkranz + Beichtgelegenheit
DESCRIPTION:https://pfarreien-bistum-augsburg.df-preview.de/feierlicher-ros
 enkranz-beichtgelegenheit_id1672734
DTSTART;TZID=Europe/Berlin:20261201T175500
DURATION:PT30M
LOCATION:St. Georg
END:VEVENT
END:VCALENDAR
