BEGIN:VCALENDAR
VERSION:2.0
PRODID:-//Sabre//Sabre VObject 4.5.8//EN
CALSCALE:GREGORIAN
BEGIN:VEVENT
UID:sabre-vobject-26bd330b-c0ba-451d-af04-43c62241b6a7
DTSTAMP:20260423T185308Z
SUMMARY:Hochamt
DESCRIPTION:https://pfarreien-bistum-augsburg.df-preview.de/hochamt_id16726
 93
DTSTART;TZID=Europe/Berlin:20260525T103000
DURATION:PT30M
LOCATION:St. Georg
END:VEVENT
END:VCALENDAR
