BEGIN:VCALENDAR
VERSION:2.0
PRODID:-//Sabre//Sabre VObject 4.5.8//EN
CALSCALE:GREGORIAN
BEGIN:VEVENT
UID:sabre-vobject-f0ee85eb-80af-46a4-90e6-acb32f7bae7f
DTSTAMP:20260424T171500Z
SUMMARY:Rosenkranz
DESCRIPTION:https://pfarreien-bistum-augsburg.df-preview.de/rosenkranz_id16
 72690
DTSTART;TZID=Europe/Berlin:20260617T180000
DURATION:PT30M
LOCATION:St. Martin
END:VEVENT
END:VCALENDAR
