BEGIN:VCALENDAR
VERSION:2.0
PRODID:-//Sabre//Sabre VObject 4.5.8//EN
CALSCALE:GREGORIAN
BEGIN:VEVENT
UID:sabre-vobject-480caf44-2ad4-4295-85e0-9250d2566a70
DTSTAMP:20260424T220320Z
SUMMARY:Taufe Pia Willer
DESCRIPTION:https://pfarreien-bistum-augsburg.df-preview.de/taufe-pia-wille
 r_id1672686
DTSTART;TZID=Europe/Berlin:20260516T140000
DURATION:PT30M
LOCATION:St. Georg
END:VEVENT
END:VCALENDAR
