BEGIN:VCALENDAR
VERSION:2.0
PRODID:-//Sabre//Sabre VObject 4.5.8//EN
CALSCALE:GREGORIAN
BEGIN:VEVENT
UID:sabre-vobject-ec67404d-c40e-483d-bcd2-d7b2aaf49e9d
DTSTAMP:20260423T150257Z
SUMMARY:Trauung Melanie und Tobias Hartmann \n
DESCRIPTION:https://pfarreien-bistum-augsburg.df-preview.de/trauung-melanie
 -und-tobias-hartmann_id1672639
DTSTART;TZID=Europe/Berlin:20261017T130000
DURATION:PT30M
LOCATION:St. Georg
END:VEVENT
END:VCALENDAR
