BEGIN:VCALENDAR
VERSION:2.0
PRODID:-//Sabre//Sabre VObject 4.5.8//EN
CALSCALE:GREGORIAN
BEGIN:VEVENT
UID:sabre-vobject-1cf24661-e30b-463d-b1b9-5182d5b60122
DTSTAMP:20260423T053124Z
SUMMARY:Feierlicher Rosenkranz + Beichtgelegenheit
DESCRIPTION:https://pfarreien-bistum-augsburg.df-preview.de/feierlicher-ros
 enkranz-beichtgelegenheit_id1672593
DTSTART;TZID=Europe/Berlin:20261013T175500
DURATION:PT30M
LOCATION:St. Georg
END:VEVENT
END:VCALENDAR
