BEGIN:VCALENDAR
VERSION:2.0
PRODID:-//Sabre//Sabre VObject 4.5.8//EN
CALSCALE:GREGORIAN
BEGIN:VEVENT
UID:sabre-vobject-4f4ccb08-2528-42a4-b763-39dff4fa0243
DTSTAMP:20260423T161459Z
SUMMARY:Trauung Georg und Tanja Sailer \nUhrzeit wird noch bekannt gegeben
DESCRIPTION:https://pfarreien-bistum-augsburg.df-preview.de/trauung-georg-u
 nd-tanja-sailer-uhrzeit-wird-noch-bekannt-gegeben_id1672559
DTSTART;TZID=Europe/Berlin:20260704T000000
DURATION:PT30M
LOCATION:St. Martin
END:VEVENT
END:VCALENDAR
