BEGIN:VCALENDAR
VERSION:2.0
PRODID:-//Sabre//Sabre VObject 4.5.8//EN
CALSCALE:GREGORIAN
BEGIN:VEVENT
UID:sabre-vobject-3dd4c3c8-9e2b-41e8-a7d2-1d087ab3405e
DTSTAMP:20260424T230930Z
SUMMARY:Rosenkranz
DESCRIPTION:https://pfarreien-bistum-augsburg.df-preview.de/rosenkranz_id16
 72553
DTSTART;TZID=Europe/Berlin:20260621T083000
DURATION:PT30M
LOCATION:St. Martin
END:VEVENT
END:VCALENDAR
