BEGIN:VCALENDAR
VERSION:2.0
PRODID:-//Sabre//Sabre VObject 4.5.8//EN
CALSCALE:GREGORIAN
BEGIN:VEVENT
UID:sabre-vobject-09dec799-a873-4538-91bb-74783f793e6e
DTSTAMP:20260423T183530Z
SUMMARY:Rosenkranz
DESCRIPTION:https://pfarreien-bistum-augsburg.df-preview.de/rosenkranz_id16
 72489
DTSTART;TZID=Europe/Berlin:20260524T095500
DURATION:PT30M
LOCATION:St. Georg
END:VEVENT
END:VCALENDAR
