BEGIN:VCALENDAR
VERSION:2.0
PRODID:-//Sabre//Sabre VObject 4.5.8//EN
CALSCALE:GREGORIAN
BEGIN:VEVENT
UID:sabre-vobject-ded257ba-d30c-4085-9c9e-3944bf27ea92
DTSTAMP:20260424T033312Z
SUMMARY:Hl. Amt
DESCRIPTION:https://pfarreien-bistum-augsburg.df-preview.de/hl-amt_id167248
 3
DTSTART;TZID=Europe/Berlin:20261018T103000
DURATION:PT30M
LOCATION:St. Georg
END:VEVENT
END:VCALENDAR
