BEGIN:VCALENDAR
VERSION:2.0
PRODID:-//Sabre//Sabre VObject 4.5.8//EN
CALSCALE:GREGORIAN
BEGIN:VEVENT
UID:sabre-vobject-be079cc2-2037-4148-9950-307599003ebb
DTSTAMP:20260423T213348Z
SUMMARY:Rosenkranz
DESCRIPTION:https://pfarreien-bistum-augsburg.df-preview.de/rosenkranz_id16
 72463
DTSTART;TZID=Europe/Berlin:20261017T180000
DURATION:PT30M
LOCATION:St. Georg
END:VEVENT
END:VCALENDAR
