BEGIN:VCALENDAR
VERSION:2.0
PRODID:-//Sabre//Sabre VObject 4.5.8//EN
CALSCALE:GREGORIAN
BEGIN:VEVENT
UID:sabre-vobject-ac8f0da6-e769-49bd-9e49-5d67f844201a
DTSTAMP:20260425T131842Z
SUMMARY:Rosenkranz
DESCRIPTION:https://pfarreien-bistum-augsburg.df-preview.de/rosenkranz_id16
 72457
DTSTART;TZID=Europe/Berlin:20260607T095500
DURATION:PT30M
LOCATION:St. Georg
END:VEVENT
END:VCALENDAR
