BEGIN:VCALENDAR
VERSION:2.0
PRODID:-//Sabre//Sabre VObject 4.5.8//EN
CALSCALE:GREGORIAN
BEGIN:VEVENT
UID:sabre-vobject-65ab6c9d-5ff3-43d3-8135-30a520339a9f
DTSTAMP:20260425T190925Z
SUMMARY:Rosenkranz
DESCRIPTION:https://pfarreien-bistum-augsburg.df-preview.de/rosenkranz_id16
 72456
DTSTART;TZID=Europe/Berlin:20260606T180000
DURATION:PT30M
LOCATION:St. Georg
END:VEVENT
END:VCALENDAR
