BEGIN:VCALENDAR
VERSION:2.0
PRODID:-//Sabre//Sabre VObject 4.5.8//EN
CALSCALE:GREGORIAN
BEGIN:VEVENT
UID:sabre-vobject-c97893ee-41d6-4b9f-ade5-ee8df057364f
DTSTAMP:20260420T100106Z
SUMMARY:Rosenkranz in der Feldkapelle St. Josef
DESCRIPTION:https://pfarreien-bistum-augsburg.df-preview.de/rosenkranz-in-d
 er-feldkapelle-st-josef_id1672443
DTSTART;TZID=Europe/Berlin:20261218T180000
DURATION:PT30M
LOCATION:St. Ursula\, \, 89362 Offingen
END:VEVENT
END:VCALENDAR
