BEGIN:VCALENDAR
VERSION:2.0
PRODID:-//Sabre//Sabre VObject 4.5.8//EN
CALSCALE:GREGORIAN
BEGIN:VEVENT
UID:sabre-vobject-0240b84c-310c-4f9e-b969-4eac495a2bd9
DTSTAMP:20260422T042353Z
SUMMARY:Rosenkranz in der Feldkapelle St. Josef
DESCRIPTION:https://pfarreien-bistum-augsburg.df-preview.de/rosenkranz-in-d
 er-feldkapelle-st-josef_id1672287
DTSTART;TZID=Europe/Berlin:20260918T180000
DURATION:PT30M
LOCATION:St. Ursula\, \, 89362 Offingen
END:VEVENT
END:VCALENDAR
