BEGIN:VCALENDAR
VERSION:2.0
PRODID:-//Sabre//Sabre VObject 4.5.8//EN
CALSCALE:GREGORIAN
BEGIN:VEVENT
UID:sabre-vobject-9de7c074-b391-4bc6-9829-2fcee0428305
DTSTAMP:20260424T191300Z
SUMMARY:Trauung Verena und Markus Beurer
DESCRIPTION:https://pfarreien-bistum-augsburg.df-preview.de/trauung-verena-
 und-markus-beurer_id1672263
DTSTART;TZID=Europe/Berlin:20260829T130000
DURATION:PT30M
LOCATION:St. Ursula\, \, 89362 Offingen
END:VEVENT
END:VCALENDAR
