BEGIN:VCALENDAR
VERSION:2.0
PRODID:-//Sabre//Sabre VObject 4.5.8//EN
CALSCALE:GREGORIAN
BEGIN:VEVENT
UID:sabre-vobject-a7dbc6b1-283d-480d-b8b5-cc592ebe7e5c
DTSTAMP:20260424T143731Z
SUMMARY:Bitt- und Flurumgang durch den Ort (Start an der Franziskuskapelle)
DESCRIPTION:https://pfarreien-bistum-augsburg.df-preview.de/bitt-und-flurum
 gang-durch-den-ort-start-an-der-franziskuskapelle_id1672155
DTSTART;TZID=Europe/Berlin:20260513T180000
DURATION:PT30M
LOCATION:St. Martin
END:VEVENT
END:VCALENDAR
