BEGIN:VCALENDAR
VERSION:2.0
PRODID:-//Sabre//Sabre VObject 4.5.8//EN
CALSCALE:GREGORIAN
BEGIN:VEVENT
UID:sabre-vobject-2e80b317-e303-46a7-ab2d-100fb0fa252d
DTSTAMP:20260424T015447Z
SUMMARY:Rosenkranz in der Feldkapelle St. Josef
DESCRIPTION:https://pfarreien-bistum-augsburg.df-preview.de/rosenkranz-in-d
 er-feldkapelle-st-josef_id1672124
DTSTART;TZID=Europe/Berlin:20260626T180000
DURATION:PT30M
LOCATION:St. Ursula\, \, 89362 Offingen
END:VEVENT
END:VCALENDAR
