BEGIN:VCALENDAR
VERSION:2.0
PRODID:-//Sabre//Sabre VObject 4.5.8//EN
CALSCALE:GREGORIAN
BEGIN:VEVENT
UID:sabre-vobject-acec175d-0f6b-4e03-822b-c352de1062e3
DTSTAMP:20260425T222235Z
SUMMARY:Familiengottesdienst mit Palmweihe
DESCRIPTION:https://pfarreien-bistum-augsburg.df-preview.de/familiengottesd
 ienst-mit-palmweihe_id1670477
DTSTART;TZID=Europe/Berlin:20260328T180000
DURATION:PT30M
LOCATION:Mariä Heimsuchung
END:VEVENT
END:VCALENDAR
