BEGIN:VCALENDAR
VERSION:2.0
PRODID:-//Sabre//Sabre VObject 4.5.8//EN
CALSCALE:GREGORIAN
BEGIN:VEVENT
UID:sabre-vobject-fee08a70-82f0-40aa-a930-f9bcfb7ceef5
DTSTAMP:20260424T213631Z
SUMMARY:Festgottesdienst mit Palmweihe
DESCRIPTION:https://pfarreien-bistum-augsburg.df-preview.de/festgottesdiens
 t-mit-palmweihe_id1670258
DTSTART;TZID=Europe/Berlin:20260329T084500
DURATION:PT30M
LOCATION:Maria Rosenkranzkönigin
END:VEVENT
END:VCALENDAR
