BEGIN:VCALENDAR
VERSION:2.0
PRODID:-//Sabre//Sabre VObject 4.5.8//EN
CALSCALE:GREGORIAN
BEGIN:VEVENT
UID:sabre-vobject-d5e1b89e-c95e-4f63-aa63-072af422bc57
DTSTAMP:20260424T223830Z
SUMMARY:Osterbasteln für Grundschulkinder im großen Pfarrsaal (Anmeldung 
 erforderlich)
DESCRIPTION:https://pfarreien-bistum-augsburg.df-preview.de/osterbasteln-fu
 er-grundschulkinder-im-grossen-pfarrsaal-anmeldung-erforderlich_id1669832
DTSTART;TZID=Europe/Berlin:20260320T150000
DURATION:PT30M
LOCATION:Maria\, Hilfe der Christen
END:VEVENT
END:VCALENDAR
