BEGIN:VCALENDAR
VERSION:2.0
PRODID:-//Sabre//Sabre VObject 4.5.8//EN
CALSCALE:GREGORIAN
BEGIN:VEVENT
UID:sabre-vobject-a155a998-cc85-44dd-9fc3-bd27d9310771
DTSTAMP:20260421T083532Z
SUMMARY:Rosenkranz
DESCRIPTION:https://pfarreien-bistum-augsburg.df-preview.de/rosenkranz_id16
 69743
DTSTART;TZID=Europe/Berlin:20260326T153000
DURATION:PT30M
LOCATION:St. Anna\,  Aich 9\, 86971 Peiting
END:VEVENT
END:VCALENDAR
