BEGIN:VCALENDAR
VERSION:2.0
PRODID:-//Sabre//Sabre VObject 4.5.8//EN
CALSCALE:GREGORIAN
BEGIN:VEVENT
UID:sabre-vobject-d37efd41-67e5-4c2f-a954-975b23a65158
DTSTAMP:20260423T055601Z
SUMMARY:Krankenkommunion
DESCRIPTION:https://pfarreien-bistum-augsburg.df-preview.de/krankenkommunio
 n_id1669386
DTSTART;TZID=Europe/Berlin:20260327T140000
DURATION:PT30M
LOCATION:Mariä Heimsuchung\, Kirchplatz 1\, 86854 Amberg
END:VEVENT
END:VCALENDAR
