BEGIN:VCALENDAR
VERSION:2.0
PRODID:-//Sabre//Sabre VObject 4.5.8//EN
CALSCALE:GREGORIAN
BEGIN:VEVENT
UID:sabre-vobject-4586fbcd-9a94-4367-9e78-d51a6fc29dab
DTSTAMP:20260422T154033Z
SUMMARY:Hl. Messe\, musikalisch gestaltet vom Vocal-Ensemble-Hochwang mit C
 horälen der Johannes-Passion von Bach
DESCRIPTION:https://pfarreien-bistum-augsburg.df-preview.de/hl-messe-musika
 lisch-gestaltet-vom-vocal-ensemble-hochwang-mit-choraelen-der-johannes-pas
 sion-von-bach_id1668585
DTSTART;TZID=Europe/Berlin:20260322T183000
DURATION:PT30M
LOCATION:St. Martin\, Pfarrhofplatz 11\, 89312 Günzburg
END:VEVENT
END:VCALENDAR
